BEGIN:VCALENDAR
VERSION:2.0
PRODID:http://www.pr-sanktgoar.de
BEGIN:VEVENT
UID:f5c0b70b-16e7-11f1-8342-0242ac11002b-1774620000000-de
DTSTAMP:20260303T100134Z
DTSTART:20260327T140000Z
DTEND:20260327T160000Z
SUMMARY;LANGUAGE=de:Hausaufgabenhilfe 
IMAGE;VALUE=URI;DISPLAY=BADGE;FMTTYPE=image/jpeg:http://www.pr-sanktgoar.de/export/sites/pastr/sankt_goar/.galleries/bilder/Hausaufgabenhilfe-flyer.png
URL:http://www.pr-sanktgoar.de/aktuelles/veranstaltungen/veranstaltung/Hausaufgabenhilfe/
END:VEVENT
END:VCALENDAR
